BEGIN:VCALENDAR
VERSION:2.0
PRODID:-//The Cultural Collective - ECPv6.15.12.2//NONSGML v1.0//EN
CALSCALE:GREGORIAN
METHOD:PUBLISH
X-ORIGINAL-URL:https://theculturalcollective.co.uk
X-WR-CALDESC:Events for The Cultural Collective
REFRESH-INTERVAL;VALUE=DURATION:PT1H
X-Robots-Tag:noindex
X-PUBLISHED-TTL:PT1H
BEGIN:VTIMEZONE
TZID:Europe/London
BEGIN:DAYLIGHT
TZOFFSETFROM:+0000
TZOFFSETTO:+0100
TZNAME:BST
DTSTART:20250330T010000
END:DAYLIGHT
BEGIN:STANDARD
TZOFFSETFROM:+0100
TZOFFSETTO:+0000
TZNAME:GMT
DTSTART:20251026T010000
END:STANDARD
BEGIN:DAYLIGHT
TZOFFSETFROM:+0000
TZOFFSETTO:+0100
TZNAME:BST
DTSTART:20260329T010000
END:DAYLIGHT
BEGIN:STANDARD
TZOFFSETFROM:+0100
TZOFFSETTO:+0000
TZNAME:GMT
DTSTART:20261025T010000
END:STANDARD
BEGIN:DAYLIGHT
TZOFFSETFROM:+0000
TZOFFSETTO:+0100
TZNAME:BST
DTSTART:20270328T010000
END:DAYLIGHT
BEGIN:STANDARD
TZOFFSETFROM:+0100
TZOFFSETTO:+0000
TZNAME:GMT
DTSTART:20271031T010000
END:STANDARD
END:VTIMEZONE
BEGIN:VEVENT
DTSTART;TZID=Europe/London:20260321T183000
DTEND;TZID=Europe/London:20260321T230000
DTSTAMP:20260422T231712
CREATED:20251214T204022Z
LAST-MODIFIED:20260204T001605Z
UID:4218-1774117800-1774134000@theculturalcollective.co.uk
SUMMARY:Rang Taali Garba 2026
DESCRIPTION:It’s time to get Garba ready – mark your calendars and get ready for an unforgettable experience! The Cultural Collective would once again like to warmly welcome you to our flagship event: Rang Taali Garba! Celebrating 5 years of TCC\, this will be our biggest Rang Taali yet. We invite you to join us for Chaitra Navratri 2026 as we look to mark new beginnings with a journey back to our authentic roots by exploring the true essence behind Garba. Truly traditional music? Indian food with a twist? And one night to remember? Expect it all and more.\nWHAT?\nThis year\, our charity partner is the very well-known UK-based initiative\, Sewa UK. They are committed to working in areas which suffer from humanitarian disasters and tragedies\, and help to rebuild devastated communities\, with 100\,000+ disaster relief beneficiaries and in excess of £5m in total funds raised. For Rang Taali 2026\, we are specifically supporting their DREAM project (Dedicated to Reach Every Aspiring Mind) which aims to support the education of young tribal girls in rural India (Sawai Madhopur\, Rajasthan)\, who often encounter numerous obstacles on their path to realising their dreams.\n \nWhat’s more is that all our dandiyas are decorated by some very special children in India working with the NGO\, Asha for Education\, where all monies have gone towards their education and wellbeing.\n\nEXPERIENCE\nIf such great causes aren’t enough for you\, then rest assured that you can expect homegrown talent from the UK Indian music scene\, and that we hope to offer a range of stalls and vendors on the day. Prepare to be captivated by an immersive experience as we aim to transform this event into a rustic atmosphere that resembles a desert or ‘Rann’-like setting.\nFOOD\nDelicious Indian food – with a hint of East Africa\, fresh juices and sweet treats will be available to purchase on the night!\n \nThe Cultural Collective team are eagerly waiting to welcome you all to an unforgettable evening filled with pulsating beats\, mesmerising performances\, and an atmosphere that will ignite the cultural flame within you.\n \n****Tickets are Non-Refundable****\n \nFor bulk-booking enquiries\, i.e. more than 10 tickets\, please contact us using tickets@theculturalcollective.co.uk.\n \nFor sponsorship\, vendor or stall-holding opportunities\, please contact us by email at info@theculturalcollective.co.uk or feel free to message any of our social media accounts.\n \n#TicketsUdiUdiJaye #AeHaloHalo #GetYourTicketsNow #TCCEvents\n\n 
URL:https://theculturalcollective.co.uk/index.php/event/rang-taali-garba-2026/
LOCATION:Dhamecha Lohana Centre\, Brember Rd\, Harrow\, HA2 8AX\, United Kingdom
CATEGORIES:Charity & Causes,Dance,Garba,Music,Religion & Spirituality
ATTACH;FMTTYPE=image/png:https://theculturalcollective.co.uk/wp-content/uploads/2025/12/TCC-Events-Web-Versions-9-TCC-Rang-Taali-2026.webp
ORGANIZER;CN="The Cultural Collective":MAILTO:info@theculturalcollective.co.uk
END:VEVENT
END:VCALENDAR