BEGIN:VCALENDAR
VERSION:2.0
PRODID:-//The Cultural Collective - ECPv6.15.12.2//NONSGML v1.0//EN
CALSCALE:GREGORIAN
METHOD:PUBLISH
X-ORIGINAL-URL:https://theculturalcollective.co.uk
X-WR-CALDESC:Events for The Cultural Collective
REFRESH-INTERVAL;VALUE=DURATION:PT1H
X-Robots-Tag:noindex
X-PUBLISHED-TTL:PT1H
BEGIN:VTIMEZONE
TZID:Europe/London
BEGIN:DAYLIGHT
TZOFFSETFROM:+0000
TZOFFSETTO:+0100
TZNAME:BST
DTSTART:20240331T010000
END:DAYLIGHT
BEGIN:STANDARD
TZOFFSETFROM:+0100
TZOFFSETTO:+0000
TZNAME:GMT
DTSTART:20241027T010000
END:STANDARD
BEGIN:DAYLIGHT
TZOFFSETFROM:+0000
TZOFFSETTO:+0100
TZNAME:BST
DTSTART:20250330T010000
END:DAYLIGHT
BEGIN:STANDARD
TZOFFSETFROM:+0100
TZOFFSETTO:+0000
TZNAME:GMT
DTSTART:20251026T010000
END:STANDARD
BEGIN:DAYLIGHT
TZOFFSETFROM:+0000
TZOFFSETTO:+0100
TZNAME:BST
DTSTART:20260329T010000
END:DAYLIGHT
BEGIN:STANDARD
TZOFFSETFROM:+0100
TZOFFSETTO:+0000
TZNAME:GMT
DTSTART:20261025T010000
END:STANDARD
END:VTIMEZONE
BEGIN:VEVENT
DTSTART;TZID=Europe/London:20250913T153000
DTEND;TZID=Europe/London:20250913T183000
DTSTAMP:20260422T025907
CREATED:20250820T182946Z
LAST-MODIFIED:20250913T115222Z
UID:4061-1757777400-1757788200@theculturalcollective.co.uk
SUMMARY:TCC Golf Social
DESCRIPTION:🌟 TCC Golf Social: Connect\, Drive\, and Network! 🌟 \nJoin us for an easy-going afternoon of golf\, good company\, and great vibes at Playgolf Northwick Park! Expect friendly competition\, plenty of socialising\, and maybe even a drink or two at the clubhouse. ⛳🍻 \nWhether you’re a seasoned pro or you’ve never picked up a club before\, this is the perfect chance to enjoy the game in a laid-back setting\, and meet new people! 🌟🏌🏽 \nWhy Attend? \n✨ Casual Networking ✨ – Meet like-minded individuals from various backgrounds and industries. Engage in meaningful conversations in a relaxed and informal setting. \n🏌🏽‍♀️ Golfing Fun 🏌🏽‍♀️ – Practise your swing and try out games on the driving range to break the ice and tee off on some new friendships. \n🍹 Drinks 🍹 – Pick your poison and join us for a post-golf drink. \nSchedule: Doors open at 3:30 PM | Golfing begins at 4 PM \nWe’ll kick things off at 4 pm\, giving you plenty of time to unwind after the week\, soak up the late summer sun\, and have a laugh with friends old and new. \nNo dress code\, no pressure – just a fun way to spend a Saturday evening! We look forward to seeing you there! \n#GolfSocial #SocialPutterfly #DrinkAndDrive \nIMPORTANT: Please note this is an over-18s only event – age identification may be required on the door. \n 
URL:https://theculturalcollective.co.uk/index.php/event/tcc-golf-social/
LOCATION:Playgolf Northwick Park\, 280 Watford Rd\, Harrow\, HA1 3TZ\, United Kingdom
CATEGORIES:Social Events,Sports
ATTACH;FMTTYPE=image/png:https://theculturalcollective.co.uk/wp-content/uploads/2025/08/TCC-Events-Web-Versions-7-TCC-Golf-Social-2025.webp
ORGANIZER;CN="The Cultural Collective":MAILTO:info@theculturalcollective.co.uk
END:VEVENT
END:VCALENDAR